BEGIN:VCALENDAR
VERSION:2.0
PRODID:-//Musique au Chambertin - ECPv6.11.2//NONSGML v1.0//EN
CALSCALE:GREGORIAN
METHOD:PUBLISH
X-ORIGINAL-URL:https://www.musiqueauchambertin.fr
X-WR-CALDESC:Évènements pour Musique au Chambertin
REFRESH-INTERVAL;VALUE=DURATION:PT1H
X-Robots-Tag:noindex
X-PUBLISHED-TTL:PT1H
BEGIN:VTIMEZONE
TZID:Europe/Paris
BEGIN:DAYLIGHT
TZOFFSETFROM:+0100
TZOFFSETTO:+0200
TZNAME:CEST
DTSTART:20260329T010000
END:DAYLIGHT
BEGIN:STANDARD
TZOFFSETFROM:+0200
TZOFFSETTO:+0100
TZNAME:CET
DTSTART:20261025T010000
END:STANDARD
END:VTIMEZONE
BEGIN:VEVENT
DTSTART;TZID=Europe/Paris:20260508T190000
DTEND;TZID=Europe/Paris:20260508T190000
DTSTAMP:20260424T172305
CREATED:20260326T072210Z
LAST-MODIFIED:20260326T095120Z
UID:4569-1778266800-1778266800@www.musiqueauchambertin.fr
SUMMARY:Concert d’ouverture
DESCRIPTION:Le Tour du Monde en 80 min\nUn programme résolument joyeux et une invitation au voyage !\nRomantisme allemand – L’âme Russe – Comédie – musicale américaine – Mélodie française – Opéra italien – Tango argentin – Chants Tziganes \nSchubert – Haendel – Gershwin – Bernstein – Saint-Saëns – Piazzolla \nLa musique rassemble les cultures du monde et est un formidable outil de cohésion sociale\, d’unité et de lien entre les peuples. Zhanna est russe\, Slava est ukrainien\, le reste de la troupe nous vient de France. \nAnne-Marine Suire (soprano)\, Emmanuel Christien\n(piano)\, Gauthier Herrmann (violoncelle)\,\nViatcheslav Mikhailyuk\, (guitare et chant)\,\nZhanna Mikhailyuk (chant). \n\n\n \nTARIFS : Gratuit pour les – de 18 ans / Tarif réduit : 15 €/ Tarif de groupe : 20 € / Plein Tarif : 25 euros \nDeuxième concert à 21h :  la Guinguette du Chambertin.\n \nRéservation uniquement du concert  « La Guinguette » sur le site de l’office du tourisme
URL:https://www.musiqueauchambertin.fr/event/concert-douverture-2/
LOCATION:Eglise Saint Aignan\, Rue de l'Eglise\, Gevrey-Chambertin\, 21220\, France
CATEGORIES:Concerts 2026
ATTACH;FMTTYPE=image/jpeg:https://www.musiqueauchambertin.fr/wp-content/uploads/2026/03/musique-au-chambertin-concert-ouverture.jpg
END:VEVENT
BEGIN:VEVENT
DTSTART;TZID=Europe/Paris:20260508T210000
DTEND;TZID=Europe/Paris:20260508T210000
DTSTAMP:20260424T172306
CREATED:20260326T074935Z
LAST-MODIFIED:20260326T095531Z
UID:4583-1778274000-1778274000@www.musiqueauchambertin.fr
SUMMARY:La Guinguette du Chambertin
DESCRIPTION:La Guinguette du Chambertin\nMusique Tzigane / Musique Électro \nMusique\, convivialité et gourmandise au rendez-vous !\nEn partenariat avec l’office du tourisme et la ville de Gevrey-Chambertin\, une grande fête en musique sur la place des marronniers. \nAu menu\, concert tzigane\, musique électro\, dégustation de vins et bouchées gourmandes servies sur place. \nLes diamants Tziganes (musique tzigane)\nZhanna Mikhailyuk (chant)\, Igor Ciobanu (violon)\,\nViatcheslav Mikhailyuk\, (guitare et chant) \nDecafonia (musique électro)\nYann Dulché (piano\, producteur électro & DJ)\,\nGauthier Herrmann (violoncelle) \n\n\nDégustation de vins et bouchées gourmandes servies sur place.\nRéservation uniquement sur le site de l’office du tourisme
URL:https://www.musiqueauchambertin.fr/event/la-guinguette-du-chambertin/
LOCATION:Place des marronniers\, Place des Marronniers\, Gevrey-Chambertin\, 21220\, France
CATEGORIES:Concerts 2026
ATTACH;FMTTYPE=image/jpeg:https://www.musiqueauchambertin.fr/wp-content/uploads/2026/03/musique-au-chambertin-concert-guinguette2.jpg
END:VEVENT
BEGIN:VEVENT
DTSTART;TZID=Europe/Paris:20260509T180000
DTEND;TZID=Europe/Paris:20260509T180000
DTSTAMP:20260424T172306
CREATED:20260326T075949Z
LAST-MODIFIED:20260326T095210Z
UID:4587-1778349600-1778349600@www.musiqueauchambertin.fr
SUMMARY:Duo violon et piano
DESCRIPTION:Duo violon et piano\nDeux virtuoses d’exception réunis sur scène !\nUn programme placé sous le signe de la jeunesse\, deux artistes de moins de 30 ans aux carrières fulgurantes.\nOriginaire de Dijon\, et lauréat de très nombreux concours internationaux\, Nathan est le plus jeune premier violon solo de l’histoire de l’Orchestre Philharmonique de Radio France.\nÀ ses côtés\, Rodolphe\, Révélation Adami 2018\, lui aussi couronné de nombreuses distinctions.\nEnsemble\, ils forment un duo éblouissant de virtuosité et de sensibilité. \nProgramme :\nG. Fauré : sonate n°1 opus 13\nW. A. Mozart : rondo en la m K.511\nR. Strauss : sonate opus 18 \nArtistes :\nNathan Mierdl (violon) et Rodolphe\nMenguy (piano) \n\nTARIFS : Gratuit pour les – de 18 ans / Tarif réduit : 15 €/ Tarif de groupe : 20 € / Plein Tarif : 25 euros
URL:https://www.musiqueauchambertin.fr/event/duo-violon-et-piano/
LOCATION:Eglise Saint Martin\, Pl. de l'Église\, Vosne-Romanée\, 21700\, France
CATEGORIES:Concerts 2026
ATTACH;FMTTYPE=image/jpeg:https://www.musiqueauchambertin.fr/wp-content/uploads/2026/03/musique-au-chambertin-concert-duo2.jpg
END:VEVENT
BEGIN:VEVENT
DTSTART;TZID=Europe/Paris:20260510T170000
DTEND;TZID=Europe/Paris:20260510T170000
DTSTAMP:20260424T172306
CREATED:20260326T080643Z
LAST-MODIFIED:20260326T101058Z
UID:4593-1778432400-1778432400@www.musiqueauchambertin.fr
SUMMARY:Quatuor à cordes et clarinette
DESCRIPTION:Quatuor à cordes et clarinette\nMostly Beethoven\, c’est l’aventure de quatre amis musiciens réunis autour d’un même rêve :\ncélébrer en 2027 le bicentenaire de la mort de Beethoven en explorant ses 16 quatuors à cordes.\nSur deux ans\, ils invitent le public à découvrir cette œuvre immense à travers une série de concerts vivants et accessibles. \nPour ce rendez-vous bourguignon\, ils ont décidé d’inviter le clarinettiste Joë Christophe (1er prix du prestigieux concours de l’ARD Munich) à se joindre à l’aventure\, pour jouer le célébrissime quintette de Mozart.\nUn voyage passionné\, curieux et plein de surprises : Beethoven\, mais pas que! \nProgramme :\nJ. Sibelius : Andante festivo\nL.v Beethoven : quatuor opus 18 n°4\nW. A. Mozart : quintette avec clarinette K.581 \nArtistes :\nNathan Mierdl (violon) Emma Gibout\n(violon)\, Violaine Despeyroux (alto)\, Gauthier\nHerrmann (violoncelle)\, Joë Christophe (clarinette) \n\nConcert suivi d’une dégustation de vins et fromages\nTARIFS : Gratuit pour les – de 18 ans / Tarif réduit : 15 €/ Tarif de groupe : 20 € / Plein Tarif : 25 euros \n 
URL:https://www.musiqueauchambertin.fr/event/quatuor/
LOCATION:Grange de Saulx\, 3 rue Jacques de Saulx\, Gilly-lès-Cîteaux\, 21640\, France
CATEGORIES:Concerts 2026
ATTACH;FMTTYPE=image/jpeg:https://www.musiqueauchambertin.fr/wp-content/uploads/2026/03/musique-au-chambertin-concert-quintette2.jpg
END:VEVENT
END:VCALENDAR