BEGIN:VCALENDAR
VERSION:2.0
PRODID:-//Musique au Chambertin - ECPv6.11.2//NONSGML v1.0//EN
CALSCALE:GREGORIAN
METHOD:PUBLISH
X-WR-CALNAME:Musique au Chambertin
X-ORIGINAL-URL:https://www.musiqueauchambertin.fr
X-WR-CALDESC:Évènements pour Musique au Chambertin
REFRESH-INTERVAL;VALUE=DURATION:PT1H
X-Robots-Tag:noindex
X-PUBLISHED-TTL:PT1H
BEGIN:VTIMEZONE
TZID:Europe/Paris
BEGIN:DAYLIGHT
TZOFFSETFROM:+0100
TZOFFSETTO:+0200
TZNAME:CEST
DTSTART:20260329T010000
END:DAYLIGHT
BEGIN:STANDARD
TZOFFSETFROM:+0200
TZOFFSETTO:+0100
TZNAME:CET
DTSTART:20261025T010000
END:STANDARD
END:VTIMEZONE
BEGIN:VEVENT
DTSTART;TZID=Europe/Paris:20260510T170000
DTEND;TZID=Europe/Paris:20260510T170000
DTSTAMP:20260424T185002
CREATED:20260326T080643Z
LAST-MODIFIED:20260326T101058Z
UID:4593-1778432400-1778432400@www.musiqueauchambertin.fr
SUMMARY:Quatuor à cordes et clarinette
DESCRIPTION:Quatuor à cordes et clarinette\nMostly Beethoven\, c’est l’aventure de quatre amis musiciens réunis autour d’un même rêve :\ncélébrer en 2027 le bicentenaire de la mort de Beethoven en explorant ses 16 quatuors à cordes.\nSur deux ans\, ils invitent le public à découvrir cette œuvre immense à travers une série de concerts vivants et accessibles. \nPour ce rendez-vous bourguignon\, ils ont décidé d’inviter le clarinettiste Joë Christophe (1er prix du prestigieux concours de l’ARD Munich) à se joindre à l’aventure\, pour jouer le célébrissime quintette de Mozart.\nUn voyage passionné\, curieux et plein de surprises : Beethoven\, mais pas que! \nProgramme :\nJ. Sibelius : Andante festivo\nL.v Beethoven : quatuor opus 18 n°4\nW. A. Mozart : quintette avec clarinette K.581 \nArtistes :\nNathan Mierdl (violon) Emma Gibout\n(violon)\, Violaine Despeyroux (alto)\, Gauthier\nHerrmann (violoncelle)\, Joë Christophe (clarinette) \n\nConcert suivi d’une dégustation de vins et fromages\nTARIFS : Gratuit pour les – de 18 ans / Tarif réduit : 15 €/ Tarif de groupe : 20 € / Plein Tarif : 25 euros \n 
URL:https://www.musiqueauchambertin.fr/event/quatuor/
LOCATION:Grange de Saulx\, 3 rue Jacques de Saulx\, Gilly-lès-Cîteaux\, 21640\, France
CATEGORIES:Concerts 2026
ATTACH;FMTTYPE=image/jpeg:https://www.musiqueauchambertin.fr/wp-content/uploads/2026/03/musique-au-chambertin-concert-quintette2.jpg
END:VEVENT
END:VCALENDAR